BEGIN:VCALENDAR
PRODID:Appointment
CALSCALE:GREGORIAN
VERSION:2.0
BEGIN:VEVENT
DTSTAMP:20260424T013221Z
DTSTART:20260501T103000
DTEND:20260501T143000
SUMMARY:1 Maikundgebung und Familienfest
UID:7bb47f12-4433-4c29-bfae-62f3ca36fbf5
DESCRIPTION:Wann? \nDemonstration um 10.30 Uhr am Bahnhof Herford \nCa. 1
 1 Uhr Kundgebung\, vorderer Rathausparkplatz\n
LOCATION:Erst am Hauptbahnhof Herford\, dann zum Rathaus Herford\, Auf de
 r Freiheit 8\, Auf der Freiheit 8
END:VEVENT
END:VCALENDAR
